BEGIN:VCALENDAR
VERSION:2.0
PRODID:-//Leadership Austin - ECPv6.15.20//NONSGML v1.0//EN
CALSCALE:GREGORIAN
METHOD:PUBLISH
X-WR-CALNAME:Leadership Austin
X-ORIGINAL-URL:https://leadershipaustin.org
X-WR-CALDESC:Events for Leadership Austin
REFRESH-INTERVAL;VALUE=DURATION:PT1H
X-Robots-Tag:noindex
X-PUBLISHED-TTL:PT1H
BEGIN:VTIMEZONE
TZID:America/Chicago
BEGIN:DAYLIGHT
TZOFFSETFROM:-0600
TZOFFSETTO:-0500
TZNAME:CDT
DTSTART:20240310T080000
END:DAYLIGHT
BEGIN:STANDARD
TZOFFSETFROM:-0500
TZOFFSETTO:-0600
TZNAME:CST
DTSTART:20241103T070000
END:STANDARD
BEGIN:DAYLIGHT
TZOFFSETFROM:-0600
TZOFFSETTO:-0500
TZNAME:CDT
DTSTART:20250309T080000
END:DAYLIGHT
BEGIN:STANDARD
TZOFFSETFROM:-0500
TZOFFSETTO:-0600
TZNAME:CST
DTSTART:20251102T070000
END:STANDARD
BEGIN:DAYLIGHT
TZOFFSETFROM:-0600
TZOFFSETTO:-0500
TZNAME:CDT
DTSTART:20260308T080000
END:DAYLIGHT
BEGIN:STANDARD
TZOFFSETFROM:-0500
TZOFFSETTO:-0600
TZNAME:CST
DTSTART:20261101T070000
END:STANDARD
END:VTIMEZONE
BEGIN:VEVENT
DTSTART;TZID=America/Chicago:20250929T090000
DTEND;TZID=America/Chicago:20250929T103000
DTSTAMP:20260419T174611
CREATED:20250827T145122Z
LAST-MODIFIED:20251121T155922Z
UID:10000533-1759136400-1759141800@leadershipaustin.org
SUMMARY:Difficult Talks: Foundation for Courageous Communication
DESCRIPTION:Description:  \nHard talks are tough. Teams that excel in handling conflicts are the highest performing – bringing strong results for organizations. However\, toxic relationships or opposing views can seriously undermine team performance. This practical and engaging workshop will teach you skills to navigate difficult\, high-emotion conversations with poise.  \nThis course is for:  \n\nCivic & Community Leaders – Learn strategies to engage across differences and navigate tough issues with respect and courage.\nManagers\, HR & People Leaders – Strengthen your ability to give feedback\, resolve conflict\, and foster a healthier workplace culture.\nRising Professionals – Gain confidence in navigating high-stakes conversations with colleagues and supervisors.\nLeaders Pursuing a Certificate – Apply this course toward your Leadership Austin certificate in courageous communication.\n\nTuition: \n\nStandard: $149\nLeadership Circle Members: $119 How do I join Leadership Circle?\nEarly Bird: $99 (if registered 20 days before the course)\n\nThe Details: \n\nPart of Leadership Austin’s Bridging Leadership Signature Series \nExpert-led and interactive\nOpen to the public — no prerequisites\n90-minute session (in person)\nLimited class size for deeper engagement\nEarn a shareable LinkedIn credential + pathway to a Leadership Austin certificate🔥\nEligible to join Leader Dialogues on civic and community issues (launching October 2025)\n\nRegister
URL:https://leadershipaustin.org/event/session-1-difficult-talks-foundation-for-courageous-communication/
LOCATION:Leadership Austin Offices\, 1609 Shoal Creek Blvd\, Austin\, TX\, United States
CATEGORIES:Open Courses
END:VEVENT
BEGIN:VEVENT
DTSTART;TZID=America/Chicago:20250929T130000
DTEND;TZID=America/Chicago:20250929T143000
DTSTAMP:20260419T174611
CREATED:20250827T145135Z
LAST-MODIFIED:20251121T155928Z
UID:10000534-1759150800-1759156200@leadershipaustin.org
SUMMARY:Difficult Talks: Foundation for Courageous Communication
DESCRIPTION:Description:  \nHard talks are tough. Teams that excel in handling conflicts are the highest performing – bringing strong results for organizations. However\, toxic relationships or opposing views can seriously undermine team performance. This practical and engaging workshop will teach you skills to navigate difficult\, high-emotion conversations with poise.  \nThis course is for:  \n\nCivic & Community Leaders – Learn strategies to engage across differences and navigate tough issues with respect and courage.\nManagers\, HR & People Leaders – Strengthen your ability to give feedback\, resolve conflict\, and foster a healthier workplace culture.\nRising Professionals – Gain confidence in navigating high-stakes conversations with colleagues and supervisors.\nLeaders Pursuing a Certificate – Apply this course toward your Leadership Austin certificate in courageous communication.\n\nTuition: \n\nStandard: $149\nLeadership Circle Members: $119 How do I join Leadership Circle?\nEarly Bird: $99 (if registered 20 days before the course)\n\nThe Details: \n\nPart of Leadership Austin’s Bridging Leadership Signature Series \nExpert-led and interactive\nOpen to the public — no prerequisites\n90-minute session (in person)\nLimited class size for deeper engagement\nEarn a shareable LinkedIn credential + pathway to a Leadership Austin certificate🔥\nEligible to join Leader Dialogues on civic and community issues (launching October 2025)\n\nRegister
URL:https://leadershipaustin.org/event/session-2-difficult-talks-foundation-for-courageous-communication/
LOCATION:Leadership Austin Offices\, 1609 Shoal Creek Blvd\, Austin\, TX\, United States
CATEGORIES:Open Courses
END:VEVENT
BEGIN:VEVENT
DTSTART;TZID=America/Chicago:20250930T173000
DTEND;TZID=America/Chicago:20250930T193000
DTSTAMP:20260419T174611
CREATED:20250610T144042Z
LAST-MODIFIED:20250827T153831Z
UID:10000527-1759253400-1759260600@leadershipaustin.org
SUMMARY:Welcome Reception: Meet the 2026 Cohorts
DESCRIPTION:We are excited to welcome the newest Essential 47 and Emerge 19 cohorts to the Leadership Austin Community!\n \nThe Welcome Reception is an opportunity to connect with inspiring individuals who are ready to make a difference in Central Texas. Engage in meaningful conversations\, share your experiences\, and kick off an amazing journey together during this free\, come-and-go event with light bites and libations!\n \nPlus\, don’t miss the trophy presentation—a fun tradition celebrating class pride and kicking off the year with energy and connection.\n \nSpecial Thank You to our Sponsors:\n \n  \nRegister
URL:https://leadershipaustin.org/event/welcome-reception-save-the-date/
LOCATION:Silicon Labs\, 200 W Cesar Chavez\, Austin\, 78701\, United States
CATEGORIES:Event,In-Person
END:VEVENT
END:VCALENDAR