BEGIN:VCALENDAR
VERSION:2.0
PRODID:-//Leadership Austin - ECPv6.15.20//NONSGML v1.0//EN
CALSCALE:GREGORIAN
METHOD:PUBLISH
X-WR-CALNAME:Leadership Austin
X-ORIGINAL-URL:https://leadershipaustin.org
X-WR-CALDESC:Events for Leadership Austin
REFRESH-INTERVAL;VALUE=DURATION:PT1H
X-Robots-Tag:noindex
X-PUBLISHED-TTL:PT1H
BEGIN:VTIMEZONE
TZID:America/Chicago
BEGIN:DAYLIGHT
TZOFFSETFROM:-0600
TZOFFSETTO:-0500
TZNAME:CDT
DTSTART:20240310T080000
END:DAYLIGHT
BEGIN:STANDARD
TZOFFSETFROM:-0500
TZOFFSETTO:-0600
TZNAME:CST
DTSTART:20241103T070000
END:STANDARD
BEGIN:DAYLIGHT
TZOFFSETFROM:-0600
TZOFFSETTO:-0500
TZNAME:CDT
DTSTART:20250309T080000
END:DAYLIGHT
BEGIN:STANDARD
TZOFFSETFROM:-0500
TZOFFSETTO:-0600
TZNAME:CST
DTSTART:20251102T070000
END:STANDARD
BEGIN:DAYLIGHT
TZOFFSETFROM:-0600
TZOFFSETTO:-0500
TZNAME:CDT
DTSTART:20260308T080000
END:DAYLIGHT
BEGIN:STANDARD
TZOFFSETFROM:-0500
TZOFFSETTO:-0600
TZNAME:CST
DTSTART:20261101T070000
END:STANDARD
END:VTIMEZONE
BEGIN:VEVENT
DTSTART;TZID=America/Chicago:20250604T173000
DTEND;TZID=America/Chicago:20250604T183000
DTSTAMP:20260424T035117
CREATED:20250418T143534Z
LAST-MODIFIED:20250502T142305Z
UID:10000525-1749058200-1749061800@leadershipaustin.org
SUMMARY:Emerge and Essential Accelerator Central
DESCRIPTION:The Emerge and Essential Accelerator is a one-on-one coaching session for individuals ready to apply for Essential or Emerge. You must bring a draft application filled out to this session. You will be assigned a 25-minute time slot. Limited slots available. (This is not a requirement to apply for a Leadership Austin program) \nYou can view a sample application here. \n  \n\n\n\nRegister\n\n 
URL:https://leadershipaustin.org/event/emerge-and-essential-accelerator-central/
LOCATION:Leadership Austin Offices\, 1609 Shoal Creek Blvd\, Austin\, TX\, United States
END:VEVENT
BEGIN:VEVENT
DTSTART;VALUE=DATE:20250612
DTEND;VALUE=DATE:20250613
DTSTAMP:20260424T035117
CREATED:20250319T145735Z
LAST-MODIFIED:20250319T145735Z
UID:10000017-1749686400-1749772799@leadershipaustin.org
SUMMARY:Applications due for Emerge and Essential
DESCRIPTION:
URL:https://leadershipaustin.org/event/applications-due-for-emerge-and-essential/
END:VEVENT
BEGIN:VEVENT
DTSTART;TZID=America/Chicago:20250613T090000
DTEND;TZID=America/Chicago:20250613T120000
DTSTAMP:20260424T035117
CREATED:20250319T145949Z
LAST-MODIFIED:20250404T175002Z
UID:10000524-1749805200-1749816000@leadershipaustin.org
SUMMARY:Crash Course: Intro to Bridging Differences
DESCRIPTION:Lead Across Differences: Bridging Differences\nJune 13\, 2025 – 9 AM – 12 PM \nLocation: Leadership Austin offices (1609 Shoal Creek Blvd.) \nThis is an introduction to Leadership Austin’s Lead Across Differences series. Learn more. \nFor leaders who want to… \n\nMaster difficult conversations\nPractice skills in a space where you can fumble and be yourself\nNo prerequisite\n\nWhat you will gain by participating: \n\nGreater confidence to disagree better\nMeet cross-sector leaders shaping Central Texas\nEvidence-based skills for deeper connection outside your bubble\n\nTuition: \n\n$200 Standard\n$135 Early Bird Discount (if registered by April 16)\n\nRegister \n\nSpecial thanks to the Webber Family Foundation for being the presenting sponsor for Lead Across Differences. \n  \nDisclaimer: \nPlease note that refunds are not available. However\, for non-application-based programs and training\, transfers may be arranged up to 15 days before the scheduled start time. In certain situations\, we may be able to offer credit towards a future training. If you have any questions or need assistance\, please contact the Program Department at programs@leadershipaustin.org.
URL:https://leadershipaustin.org/event/crash-course-intro-to-bridging-differences-2/
LOCATION:Leadership Austin Offices\, 1609 Shoal Creek Blvd\, Austin\, TX\, United States
END:VEVENT
BEGIN:VEVENT
DTSTART;TZID=America/Chicago:20250613T120000
DTEND;TZID=America/Chicago:20250613T130000
DTSTAMP:20260424T035117
CREATED:20250404T150050Z
LAST-MODIFIED:20250609T210008Z
UID:10000523-1749816000-1749819600@leadershipaustin.org
SUMMARY:Friday Civics In Partnership with Texas Tribune
DESCRIPTION:Join Leadership Austin alumni and Texas Tribune journalists for our final Friday Civics recapping the 89th Texas Legislative Session – with a spotlight on new laws impacting water\, energy\, and cannabis. \n \n— \nFriday Civics is a monthly series in partnership with the Texas Tribune! We host expert journalists and analysts from the Tribune who provide an insider’s look at the latest developments in the Texas Legislature. Get the facts behind the headlines\, understand upcoming bills and their potential impact\, and gain valuable context about the political dynamics shaping our state. Whether you’re a policy enthusiast or simply want to be a more informed citizen\, these sessions will offer accessible insights into Texas governance. Don’t miss this opportunity to engage directly with some of Texas’ most knowledgeable political reporters as they break down what’s really happening in the Capitol. \nRegister
URL:https://leadershipaustin.org/event/friday-civics-in-partnership-with-texas-tribune-3/
LOCATION:https://leadershipaustin.org/event/friday-civics-in-partnership-with-texas-tribune-3/
END:VEVENT
END:VCALENDAR