BEGIN:VCALENDAR
VERSION:2.0
PRODID:-//Leadership Austin - ECPv6.15.20//NONSGML v1.0//EN
CALSCALE:GREGORIAN
METHOD:PUBLISH
X-WR-CALNAME:Leadership Austin
X-ORIGINAL-URL:https://leadershipaustin.org
X-WR-CALDESC:Events for Leadership Austin
REFRESH-INTERVAL;VALUE=DURATION:PT1H
X-Robots-Tag:noindex
X-PUBLISHED-TTL:PT1H
BEGIN:VTIMEZONE
TZID:America/Chicago
BEGIN:DAYLIGHT
TZOFFSETFROM:-0600
TZOFFSETTO:-0500
TZNAME:CDT
DTSTART:20240310T080000
END:DAYLIGHT
BEGIN:STANDARD
TZOFFSETFROM:-0500
TZOFFSETTO:-0600
TZNAME:CST
DTSTART:20241103T070000
END:STANDARD
BEGIN:DAYLIGHT
TZOFFSETFROM:-0600
TZOFFSETTO:-0500
TZNAME:CDT
DTSTART:20250309T080000
END:DAYLIGHT
BEGIN:STANDARD
TZOFFSETFROM:-0500
TZOFFSETTO:-0600
TZNAME:CST
DTSTART:20251102T070000
END:STANDARD
BEGIN:DAYLIGHT
TZOFFSETFROM:-0600
TZOFFSETTO:-0500
TZNAME:CDT
DTSTART:20260308T080000
END:DAYLIGHT
BEGIN:STANDARD
TZOFFSETFROM:-0500
TZOFFSETTO:-0600
TZNAME:CST
DTSTART:20261101T070000
END:STANDARD
END:VTIMEZONE
BEGIN:VEVENT
DTSTART;TZID=America/Chicago:20250501T173000
DTEND;TZID=America/Chicago:20250501T183000
DTSTAMP:20260424T064634
CREATED:20250401T181758Z
LAST-MODIFIED:20250401T182201Z
UID:10000519-1746120600-1746124200@leadershipaustin.org
SUMMARY:Alumni Only Cause Gathering
DESCRIPTION:May 1 | 5:30 – 6:30 p.m. \nJoin fellow Leadership Austin alumni for an insightful panel discussion on homelessness challenges and solutions in the Austin/Central Texas region. This gathering brings together key leaders from organizations at the forefront of addressing homelessness in our community. \nEvent Details: \nDate: Thursday\, May 1\, 2025\nTime: 5:30 PM – 6:30 PM\nLocation: The Other Ones Foundation – Esperanza Community\nRegistration: Required\, free to attend (exclusive to Leadership Austin alumni) \nMeet the Panelist: \n\nDavid Gray\, Director of Homeless Strategy\, City of Austin\nLucy Humble\, HAIL Task Force\nLiz Schoenfeld\, Ph.D\, CEO\, Lifeworks\n\nSchedule of Events: \n\n5:30 PM – 5:45 PM: Welcome & Introduction\n5:45 PM – 6:15 PM: Panel Discussion\n6:15 PM – 6:25 PM: Audience Q&A\n6:25 PM – 6:30 PM: Closing Remarks\n\n  \nRegister
URL:https://leadershipaustin.org/event/alumni-only-cause-gathering/
LOCATION:The Other Ones Foundation – Esperanza Community\, 760 Bastrop Hwy SB\, Austin\, United States
END:VEVENT
BEGIN:VEVENT
DTSTART;VALUE=DATE:20250516
DTEND;VALUE=DATE:20250517
DTSTAMP:20260424T064634
CREATED:20250319T145705Z
LAST-MODIFIED:20250319T145705Z
UID:10000015-1747353600-1747439999@leadershipaustin.org
SUMMARY:Graduation for Emerge and Essential Class of 2025
DESCRIPTION:
URL:https://leadershipaustin.org/event/graduation-for-emerge-and-essential-class-of-2025/
END:VEVENT
BEGIN:VEVENT
DTSTART;TZID=America/Chicago:20250516T110000
DTEND;TZID=America/Chicago:20250516T130000
DTSTAMP:20260424T064634
CREATED:20250319T145616Z
LAST-MODIFIED:20250319T145643Z
UID:10000014-1747393200-1747400400@leadershipaustin.org
SUMMARY:Courageous Leaders Lunch
DESCRIPTION:Friday\, May 16\, 2025\n11:00 a.m. – 1:00 p.m.\nJunior League of Austin \nJoin us for an incredible day among community leaders for the 2025 Courageous Leaders Lunch on May 16\, 2025 from 11am-1pm at the Junior League Community Impact Center. Here is what you can expect: \n\nKeynote from WNBA legend and business entrepreneur Fran Harris\nEngaging discussion on leadership in today’s dynamic landscape\nCelebrate local courageous leadership before\, during\, and after the event\nEnjoy a delicious family-style meal with new friends and old friends\nExtra time to mix and mingle with attendees following the lunch (optional)\n\nThe Courageous Leaders Lunch is Leadership Austin’s fundraiser to ensure access to participate in Emerge and Essential leadership development programs. Your generosity will ensure everyone who is accepted into next year’s program can attend so that finances are not a barrier. Scholarhips are available to anyone in our programs. \nAll around us\, every day\, are incredible leaders doing the work to create a Central Texas where everyone can thrive. \nRegister \nA limited number of $150 tickets will be available. \nLearn more about the Courageous Leaders Lunch here. \nInterested in sponsorship opportunities? Review them here.\nContact Missy Strittmatter for more information. \n  \n 
URL:https://leadershipaustin.org/event/courageous-leaders-lunch/
END:VEVENT
BEGIN:VEVENT
DTSTART;TZID=America/Chicago:20250523T120000
DTEND;TZID=America/Chicago:20250523T130000
DTSTAMP:20260424T064634
CREATED:20250404T145939Z
LAST-MODIFIED:20250404T145939Z
UID:10000522-1748001600-1748005200@leadershipaustin.org
SUMMARY:Friday Civics In Partnership with Texas Tribune
DESCRIPTION:Join us for our exciting new monthly series\, Friday Civics\, in partnership with the Texas Tribune! Each month\, we’ll host expert journalists and analysts from the Tribune who will provide an insider’s look at the latest developments in the Texas Legislature. \nGet the facts behind the headlines\, understand upcoming bills and their potential impact\, and gain valuable context about the political dynamics shaping our state. Whether you’re a policy enthusiast or simply want to be a more informed citizen\, these sessions will offer accessible insights into Texas governance. \nDon’t miss this opportunity to engage directly with some of Texas’ most knowledgeable political reporters as they break down what’s really happening in the Capitol. \nRegister
URL:https://leadershipaustin.org/event/friday-civics-in-partnership-with-texas-tribune-2/
LOCATION:https://leadershipaustin.org/event/friday-civics-in-partnership-with-texas-tribune-2/
END:VEVENT
END:VCALENDAR